BEGIN:VCALENDAR
VERSION:2.0
PRODID:-//ETOWN SALSA - ECPv6.11.2.1//NONSGML v1.0//EN
CALSCALE:GREGORIAN
METHOD:PUBLISH
X-WR-CALNAME:ETOWN SALSA
X-ORIGINAL-URL:https://etownsalsa.com
X-WR-CALDESC:Events for ETOWN SALSA
REFRESH-INTERVAL;VALUE=DURATION:PT1H
X-Robots-Tag:noindex
X-PUBLISHED-TTL:PT1H
BEGIN:VTIMEZONE
TZID:America/Edmonton
BEGIN:DAYLIGHT
TZOFFSETFROM:-0700
TZOFFSETTO:-0600
TZNAME:MDT
DTSTART:20250309T090000
END:DAYLIGHT
BEGIN:STANDARD
TZOFFSETFROM:-0600
TZOFFSETTO:-0700
TZNAME:MST
DTSTART:20251102T080000
END:STANDARD
END:VTIMEZONE
BEGIN:VEVENT
DTSTART;TZID=America/Edmonton:20250712T200000
DTEND;TZID=America/Edmonton:20250713T003000
DTSTAMP:20260425T195453
CREATED:20250704T004401Z
LAST-MODIFIED:20250704T004401Z
UID:2045-1752350400-1752366600@etownsalsa.com
SUMMARY:Salsachata July 12
DESCRIPTION:Join us for a SPECIAL evening of SALSA & BACHATA dance social. This night is PERFECT for a date night\, and even better for SINGLES! So it welcomes all singles and couples. You don’t need a partner. Bring your dance shoes and meet a lot of amazing people from all walks of life to enter our doors that night. But the best thing you don’t even have to chat you can just DANCE! And if you want to chat\, dance talk is usually the mode of choice and your loving it! Don’t think twice BUY YOUR TICKTES ONLINE and you will have a fabulous time! Spring is here and Salsachatas are going stronger than ever!  Our upcoming dates are July 12 & 26.  This night welcomes everyone from advanced dancers to complete beginners. Both nights in July will be TROPICAL THEME so come in your best Carribean threads! We will give away a prize for best dressed on July 12 but not before a fun dance off so the audience can decide who wins! Contest will go on around 11pm. \n  \n  \n  \nAgenda for the night \nDoor open @ 8:00pm \nSalsa or Bachata or chacha or mambo lesson @ 8:30pm by Maestro Alejandro Rojas \nSocial Dance @ 9:30pm until 12:30am or 1am \nDJ Jas playing music all night! \n$15 BUY online will include a free bottle water
URL:https://etownsalsa.com/event/salsachata-july-12/
LOCATION:ETOWN SALSA Studios (Centre 115)\, #204\, 10575 115 street\,\, Edmonton\, Alberta\, Canada
ATTACH;FMTTYPE=image/jpeg:https://etownsalsa.com/wp-content/uploads/2025/07/banner_salsachata_July2025.jpeg
ORGANIZER;CN="Etown Salsa":MAILTO:contactus@etownsalsa.com
END:VEVENT
END:VCALENDAR