BEGIN:VCALENDAR
VERSION:2.0
PRODID:-//ETOWN SALSA - ECPv6.11.2.1//NONSGML v1.0//EN
CALSCALE:GREGORIAN
METHOD:PUBLISH
X-WR-CALNAME:ETOWN SALSA
X-ORIGINAL-URL:https://etownsalsa.com
X-WR-CALDESC:Events for ETOWN SALSA
REFRESH-INTERVAL;VALUE=DURATION:PT1H
X-Robots-Tag:noindex
X-PUBLISHED-TTL:PT1H
BEGIN:VTIMEZONE
TZID:America/Edmonton
BEGIN:DAYLIGHT
TZOFFSETFROM:-0700
TZOFFSETTO:-0600
TZNAME:MDT
DTSTART:20260308T090000
END:DAYLIGHT
BEGIN:STANDARD
TZOFFSETFROM:-0600
TZOFFSETTO:-0700
TZNAME:MST
DTSTART:20261101T080000
END:STANDARD
END:VTIMEZONE
BEGIN:VEVENT
DTSTART;TZID=America/Edmonton:20260324T160000
DTEND;TZID=America/Edmonton:20260324T200000
DTSTAMP:20260421T115038
CREATED:20260303T232944Z
LAST-MODIFIED:20260306T203604Z
UID:2521-1774368000-1774382400@etownsalsa.com
SUMMARY:SHOE SALE! - with 'I Love Dance Shoes' from Montreal
DESCRIPTION:We plan to have a shoe vender in to sell dance shoes all the way from Montreal. Our vendor will bring in select shoes based on interest and also some other popular styles. \nCheck out the ladies shoes inventory online at https://ilovedanceshoes.com/collections/latin-salsa-dance-shoes and men’s shoes at https://ilovedanceshoes.com/collections/latin-shoes-men. \nThe vendor will bring them in to try on and you can instantly purchase in person. To book your timeslot and request specific models and sizes\, please fill out the form by clicking below:
URL:https://etownsalsa.com/event/shoe-sale-with-i-love-dance-shoes-from-montreal/
LOCATION:ETOWN SALSA Studios (off Whyte & 99st)\, 10012-79 ave nw\, Edmonton\, AB\, T6E 1R5\, Canada
ATTACH;FMTTYPE=image/jpeg:https://etownsalsa.com/wp-content/uploads/2026/03/Etown-flyer_v3_xsm.jpg
ORGANIZER;CN="Etown Salsa":MAILTO:contactus@etownsalsa.com
END:VEVENT
END:VCALENDAR