BEGIN:VCALENDAR
VERSION:2.0
PRODID:-//ETOWN SALSA - ECPv6.11.2.1//NONSGML v1.0//EN
CALSCALE:GREGORIAN
METHOD:PUBLISH
X-ORIGINAL-URL:https://etownsalsa.com
X-WR-CALDESC:Events for ETOWN SALSA
REFRESH-INTERVAL;VALUE=DURATION:PT1H
X-Robots-Tag:noindex
X-PUBLISHED-TTL:PT1H
BEGIN:VTIMEZONE
TZID:America/Edmonton
BEGIN:DAYLIGHT
TZOFFSETFROM:-0700
TZOFFSETTO:-0600
TZNAME:MDT
DTSTART:20260308T090000
END:DAYLIGHT
BEGIN:STANDARD
TZOFFSETFROM:-0600
TZOFFSETTO:-0700
TZNAME:MST
DTSTART:20261101T080000
END:STANDARD
END:VTIMEZONE
BEGIN:VEVENT
DTSTART;TZID=America/Edmonton:20260214T180000
DTEND;TZID=America/Edmonton:20260214T203000
DTSTAMP:20260425T125201
CREATED:20260106T214459Z
LAST-MODIFIED:20260106T214938Z
UID:2472-1771092000-1771101000@etownsalsa.com
SUMMARY:Latin Valentine's Dance Workshop Feb 14@Parkdale Cromdale Hall
DESCRIPTION:Latin Valentines Dance Workshop Feb 14 at Parkdale Cromdale Hall\n  \nLearn some teasers in the most popular Latin dances in the city and worldwide! Salsa and Bachata! \nThis is a complete beginner’s class meant to be a fun time with your loved one. \nChoose from 2 times on Feb 14.   Limited space so register early. \nNo refunds or credits for special events. \n$70+tax / couple \nEarly bird til Feb 1 $60+tax/couple \n\nREGISTER FOR 6pm\n REGISTER FOR 7:15pm\n\n\n 
URL:https://etownsalsa.com/event/latin-valentines-dance-workshop-feb-14parkdale-cromdale-hall/
LOCATION:Parkdale Cromdale Community Hall\, 11335 85 St\, Edmonton\, AB\, Edmonton\, AB\, T5B 4S1\, Canada
ATTACH;FMTTYPE=image/jpeg:https://etownsalsa.com/wp-content/uploads/2026/01/banner_valentines2026.jpeg
ORGANIZER;CN="Etown Salsa":MAILTO:contactus@etownsalsa.com
END:VEVENT
BEGIN:VEVENT
DTSTART;TZID=America/Edmonton:20260215T130000
DTEND;TZID=America/Edmonton:20260215T160000
DTSTAMP:20260425T125201
CREATED:20251218T055206Z
LAST-MODIFIED:20260210T203604Z
UID:2417-1771160400-1771171200@etownsalsa.com
SUMMARY:Salsa'n Skate with Rumba Caliente
DESCRIPTION:Salsa n Skate with Edmonton Arts Council and ETOWN SALSA\n  \nRegister for the FREE CLASS through eventbrite
URL:https://etownsalsa.com/event/salsan-skate-with-rumba-caliente/
LOCATION:City Hall / Churchill Square\, 7 Sir Winston Churchill Square\, Edmonton\, Alberta\, T5J 2V5\, Canada
ATTACH;FMTTYPE=image/jpeg:https://etownsalsa.com/wp-content/uploads/2025/12/banner_salsaskate_2026.jpeg
ORGANIZER;CN="Etown Salsa":MAILTO:contactus@etownsalsa.com
END:VEVENT
BEGIN:VEVENT
DTSTART;TZID=America/Edmonton:20260221T200000
DTEND;TZID=America/Edmonton:20260222T000000
DTSTAMP:20260425T125201
CREATED:20260218T183238Z
LAST-MODIFIED:20260219T230832Z
UID:2508-1771704000-1771718400@etownsalsa.com
SUMMARY:Salsachata Feb 21
DESCRIPTION:Salsachata is back and we have a treat for all of you.  Step into our new studios just off whyte avenue and 99 st and come take our beginner lesson or just come dance!  Our motto is ” Great date night and even better for singles!” and so this welcomes absolute beginners as well as current students and dance community dancers!   In addition\, you will enjoy performances by our Salsa and Bachata teams! The lesson starts at 8:30pm and the performances start at 10pm!  We also will have 2 rooms to play with a Salsa room and a Bachata room. The 2 rooms will open up at 10:10pm and prior we will have one room play both genres.  For parking map\, click here: \n 
URL:https://etownsalsa.com/event/salsachata-feb-21-2/
LOCATION:ETOWN SALSA Studios (off Whyte & 99st)\, 10012-79 ave nw\, Edmonton\, AB\, T6E 1R5\, Canada
ATTACH;FMTTYPE=image/jpeg:https://etownsalsa.com/wp-content/uploads/2026/02/banner_salsachata_feb21.jpeg
ORGANIZER;CN="Etown Salsa":MAILTO:contactus@etownsalsa.com
END:VEVENT
END:VCALENDAR